BEGIN:VCALENDAR
VERSION:2.0
PRODID:-//Cambridge Unitarians - ECPv6.15.20//NONSGML v1.0//EN
CALSCALE:GREGORIAN
METHOD:PUBLISH
X-WR-CALNAME:Cambridge Unitarians
X-ORIGINAL-URL:https://www.cambridgeunitarian.org
X-WR-CALDESC:Events for Cambridge Unitarians
REFRESH-INTERVAL;VALUE=DURATION:PT1H
X-Robots-Tag:noindex
X-PUBLISHED-TTL:PT1H
BEGIN:VTIMEZONE
TZID:Europe/London
BEGIN:DAYLIGHT
TZOFFSETFROM:+0000
TZOFFSETTO:+0100
TZNAME:BST
DTSTART:20250330T010000
END:DAYLIGHT
BEGIN:STANDARD
TZOFFSETFROM:+0100
TZOFFSETTO:+0000
TZNAME:GMT
DTSTART:20251026T010000
END:STANDARD
BEGIN:DAYLIGHT
TZOFFSETFROM:+0000
TZOFFSETTO:+0100
TZNAME:BST
DTSTART:20260329T010000
END:DAYLIGHT
BEGIN:STANDARD
TZOFFSETFROM:+0100
TZOFFSETTO:+0000
TZNAME:GMT
DTSTART:20261025T010000
END:STANDARD
BEGIN:DAYLIGHT
TZOFFSETFROM:+0000
TZOFFSETTO:+0100
TZNAME:BST
DTSTART:20270328T010000
END:DAYLIGHT
BEGIN:STANDARD
TZOFFSETFROM:+0100
TZOFFSETTO:+0000
TZNAME:GMT
DTSTART:20271031T010000
END:STANDARD
END:VTIMEZONE
BEGIN:VEVENT
DTSTART;TZID=Europe/London:20260424T063000
DTEND;TZID=Europe/London:20260424T203000
DTSTAMP:20260424T125119
CREATED:20260424T105515Z
LAST-MODIFIED:20260424T105515Z
UID:10000007-1777012200-1777062600@www.cambridgeunitarian.org
SUMMARY:Choir Rehearsal
DESCRIPTION:Choir Practice
URL:https://www.cambridgeunitarian.org/event/choir-rehearsal/
LOCATION:Cambridge Unitarian Church\, Unitarian Church\, 5 Emmanuel Rd\, Cambridge\, CB1 1JW\, United Kingdom
END:VEVENT
BEGIN:VEVENT
DTSTART;TZID=Europe/London:20260424T120000
DTEND;TZID=Europe/London:20260424T160000
DTSTAMP:20260424T125119
CREATED:20260424T104710Z
LAST-MODIFIED:20260424T104710Z
UID:10000006-1777032000-1777046400@www.cambridgeunitarian.org
SUMMARY:Creative Synergy Community Meet
DESCRIPTION:Cambridge Creative Synergy Community\nGood Mental Health & Well-Being\nFridays 12:00-4:00 pm\nCambridge Unitarian Meeting Hall\nVictoria Street (entrance)\, Cambridge CB1 1JN\nWe are a peer-mentoring support group promoting\ngood mental health and well-being for adults.\nFeeling lonely & need company? Join us – you are\nvery welcome.\nCarers and Volunteers: welcome to curate peer-\nmentoring and well-being sessions.\nJoin us in cooking together (various cultural\ncuisines)\, eating together and talking together;\nIf you love cooking\, we would help with the\ningredients\, just tell us what you would like.\nWe are making our own peer-mentoring community\nas we go along\, and see what we can do together.\nIt is a place for talking\, listening\, being heard\, silent\ncontemplation\, feeling valued and realising our\nvalues together. And it is free to join us\nC o n t a c t u s\nLoretta: 1 mob: 07789 558 621\nSatinder: mob: 07950 954 584\nStephen: mob: 07807524184                            singingstephencam@gmail.com
URL:https://www.cambridgeunitarian.org/event/creative-synergy-community-meet/
LOCATION:Hall
END:VEVENT
BEGIN:VEVENT
DTSTART;TZID=Europe/London:20260504T120000
DTEND;TZID=Europe/London:20260504T180000
DTSTAMP:20260424T125119
CREATED:20260424T103712Z
LAST-MODIFIED:20260424T103712Z
UID:10000001-1777896000-1777917600@www.cambridgeunitarian.org
SUMMARY:Concert (outside hirer)
DESCRIPTION:Concert organised by Daniel Carney
URL:https://www.cambridgeunitarian.org/event/concert-outside-hirer/
LOCATION:Cambridge Unitarian Church\, Unitarian Church\, 5 Emmanuel Rd\, Cambridge\, CB1 1JW\, United Kingdom
END:VEVENT
BEGIN:VEVENT
DTSTART;TZID=Europe/London:20260528T190000
DTEND;TZID=Europe/London:20260528T213000
DTSTAMP:20260424T125119
CREATED:20260424T103902Z
LAST-MODIFIED:20260424T103902Z
UID:10000002-1779994800-1780003800@www.cambridgeunitarian.org
SUMMARY:SPRING MEETING - KCPRA (outside hirer)
DESCRIPTION:Kite & Christ’s Pieces Residents Association Spring Meeting. \nGuest Speakers: Vicki Wiles (Trustee\, Jimmy’s) and Bea Taylor (Head of Services) \n7.00pm for a 7.30pm start \nRefreshments will be provided
URL:https://www.cambridgeunitarian.org/event/spring-meeting-kcpra-outside-hirer/
LOCATION:Cambridge Unitarian Church\, Unitarian Church\, 5 Emmanuel Rd\, Cambridge\, CB1 1JW\, United Kingdom
END:VEVENT
BEGIN:VEVENT
DTSTART;TZID=Europe/London:20260606T141500
DTEND;TZID=Europe/London:20260606T233000
DTSTAMP:20260424T125119
CREATED:20260424T104041Z
LAST-MODIFIED:20260424T104050Z
UID:10000003-1780755300-1780788600@www.cambridgeunitarian.org
SUMMARY:WEDDING PARTY (Outside Hirer)
DESCRIPTION:After Wedding Party
URL:https://www.cambridgeunitarian.org/event/wedding-party-outside-hirer/
LOCATION:Hall
END:VEVENT
BEGIN:VEVENT
DTSTART;VALUE=DATE:20260619
DTEND;VALUE=DATE:20260620
DTSTAMP:20260424T125119
CREATED:20260424T104147Z
LAST-MODIFIED:20260424T104147Z
UID:10000004-1781827200-1781913599@www.cambridgeunitarian.org
SUMMARY:Wedding
DESCRIPTION:
URL:https://www.cambridgeunitarian.org/event/wedding/
LOCATION:Cambridge Unitarian Church\, Unitarian Church\, 5 Emmanuel Rd\, Cambridge\, CB1 1JW\, United Kingdom
END:VEVENT
BEGIN:VEVENT
DTSTART;VALUE=DATE:20260808
DTEND;VALUE=DATE:20260809
DTSTAMP:20260424T125119
CREATED:20260424T104304Z
LAST-MODIFIED:20260424T104304Z
UID:10000005-1786147200-1786233599@www.cambridgeunitarian.org
SUMMARY:PARTY for Jenny
DESCRIPTION:Party for Jenny
URL:https://www.cambridgeunitarian.org/event/party-for-jenny/
LOCATION:Hall
END:VEVENT
END:VCALENDAR